Workbook

Sheet تلگرام مشهدی
A1: ردیف | B1: عنوان | C1: نام کانال | D1: میزان مخاطب | E1: تعداد بازدید | F1: تگ کانال | G1: تعرفه ویژه | H1: تعرفه رپرتاژ | I1: تعرفه شبانه | J1: تعرفه پین
A2: 1 | B2: رسانه های مشهدی تلگرام | C2: اخبارمشهد | D2: 853200 | E2: 35200 | F2: @Akhbarmashhad | G2: 5500000 | H2: 9500000 | I2: 6000000 | J2: 900000
A3: 2 | C3: حوادث مشهد | D3: 64800 | E3: 7100 | F3: @havadesmashhad | G3: 800000 | H3: 1600000 | I3: 800000 | J3: 100000
A4: 3 | C4: بانوان مشهد | D4: 14100 | E4: 1100 | F4: @banovanmashaad | G4: 400000 | H4: 800000 | I4: 600000 | J4: 50000
A5: 4 | C5: اجتماعی مشهد | D5: 12900 | E5: 722 | F5: @ejtemaeemashhad | G5: 400000 | H5: 800000 | I5: 600000 | J5: 50000
A6: 5 | C6: آب و هوای مشهد | D6: 31200 | E6: 1200 | F6: @HavashenasiMashhad | G6: 400000 | H6: 800000 | I6: 700000 | J6: 50000
A7: 6 | C7: اقتصاد مشهد | D7: 11800 | E7: 1100 | F7: @EghtesadMashhad | G7: 400000 | H7: 800000 | I7: 600000 | J7: 50000
A8: 7 | C8: صدای خراسان | D8: 11600 | E8: 650 | F8: @sedayekhorasaniha | G8: 400000 | H8: 800000 | I8: 600000 | J8: 50000
A9: 8 | C9: فردای مشهد | D9: 56200 | E9: 3400 | F9: @fardaye_mashhad | G9: 600000 | H9: 1200000 | I9: 1000000 | J9: 100000
A10: 9 | C10: سیاسی مشهد | D10: 7200 | E10: 458 | F10: @siasimashhad | G10: 400000 | H10: 800000 | I10: 600000 | J10: 50000
A11: جمع کل (تومان) | D11: =SUM(D2:D10) -> 1063000 | E11: =SUM(E2:E10) -> 50930 | G11: =SUM(G2:G10) -> 9300000 | H11: =SUM(H2:H10) -> 17100000 | I11: =SUM(I2:I10) -> 11500000 | J11: =SUM(J2:J10) -> 1400000

Sheet تلگرام کشوری
A1: ردیف | B1: عنوان | C1: نام کانال | D1: میزان مخاطب | E1: تعداد بازید | F1: تگ کانال | G1: تعرفه ویژه | H1: تعرفه رپرتاژ | I1: تعرفه شبانه | J1: تعرفه پین
A2: 1 | B2: رسانه های کشوری تلگرام | C2: هم صدا | D2: 762100 | E2: 35600 | F2: @hamseair | G2: 4000000 | H2: 8000000 | I2: 6000000 | J2: 900000
A3: 2 | C3: خبرفردا | D3: 759500 | E3: 49100 | F3: @khabarfarda_ir | G3: 4000000 | H3: 7000000 | I3: 6000000 | J3: 900000
A4: 3 | C4: ورزش فوری | D4: 63900 | E4: 5500 | F4: @fori_sport | G4: 700000 | H4: 1200000 | I4: 1500000 | J4: 150000
A5: 4 | C5: اکو نیوز | D5: 740200 | E5: 27400 | F5: @econews_net | G5: 4000000 | H5: 7000000 | I5: 6000000 | J5: 150000
A6: جمع کل (تومان) | D6: =SUM(D2:D5) -> 2325700 | E6: =SUM(E2:E5) -> 117600 | G6: =SUM(G2:G5) -> 12700000 | H6: =SUM(H2:H5) -> 23200000 | I6: =SUM(I2:I5) -> 19500000 | J6: =SUM(J2:J5) -> 2100000

Sheet روبیکا مشهدی
A1: ردیف | B1: عنوان | C1: نام کانال | D1: میزان مخاطب | E1: تعداد بازدید | F1: تگ کانال | G1: تعرفه ویژه | H1: تعرفه رپرتاژ | I1: پست ۱ شبانه | J1: پست ۲ شبانه | K1: پست ۳ شبانه | L1: پین کانال | M1: تعرفه ویژه مخصوص نقدی
A2: 1 | B2: رسانه های مشهدی روبیکا | C2: اخبار مشهد | D2: 960200 | E2: 146100 | F2: @akhbarmashhad | G2: 5200000 | H2: 9000000 | I2: 5900000 | J2: 4900000 | K2: 4700000 | L2: 1000000 | M2: 4500000
A3: 2 | C3: حوادث مشهد | D3: 83600 | E3: 34600 | F3: @havadesmashhad | G3: 4100000 | H3: 8200000 | I3: 4100000 | J3: 4100000 | K3: 4100000 | L3: 200000 | M3: 2000000
A4: 3 | C4: اقتصاد مشهد | D4: 31400 | E4: 9300 | F4: @eghtesad_mashhad | L4: 100000
A5: 4 | C5: اجتماعی مشهد | D5: 40800 | E5: 15000 | F5: @ejtemaeemashhad | L5: 100000
A6: 5 | C6: هواشناسی مشهد | D6: 57300 | E6: 19500 | F6: @havashenasimashhad | L6: 100000
A7: 6 | C7: صدای خراسان | D7: 90500 | E7: 12000 | F7: @sedayekhorasan | L7: 100000
A8: 7 | C8: فردای مشهد | D8: 183100 | E8: 4500 | F8: @fardaye_mashhad | L8: 100000
A9: 8 | C9: تربت حیدریه | D9: 1300 | E9: 400 | F9: https://rubika.ir/joinc/EHGGJEEF0NNXOECYIVMNLAKOYXFZNYKO | G9: 1500000 | H9: 3000000 | I9: 2000000 | J9: 1800000 | K9: 1700000
A10: 9 | C10: چناران | D10: 1400 | E10: 411 | F10: https://rubika.ir/joinc/EIGIGEDH0DZNLSADSALVJQWQPDNBHOYY
A11: 10 | C11: سبزوار | D11: 840 | E11: 298 | F11: https://rubika.ir/joinc/EHGGJBDC0GPOTMUXLVWFYQYUHZYYZEUP
A12: 11 | C12: تربت جام | D12: 1800 | E12: 940 | F12: https://rubika.ir/joinc/EIGBAJII0YXVNHRTZPGJWRECPFCQXMCL
A13: 12 | C13: نیشابور | D13: 1900 | E13: 680 | F13: https://rubika.ir/joinc/EHGGJCCB0GMRDOEQHAQPMCFLQXIHKNVU
A14: 13 | C14: کاشمر | D14: 1600 | E14: 400 | F14: https://rubika.ir/joinc/EHGGJDBA0BMQDRVJQMNATYSECUGOGHCY
A15: 14 | C15: قوچان | D15: 1400 | E15: 446 | F15: https://rubika.ir/joinc/EIGBAJFA0PRUUVQKHXDDJJBEOLLHGMOR
A16: جمع کل (تومان) | D16: =SUM(D2:D15) -> 1457140 | E16: =SUM(E2:E15) -> 244575 | G16: =SUM(G2:G15) -> 10800000 | H16: =SUM(H2:H15) -> 20200000 | I16: =SUM(I2:I15) -> 12000000 | J16: =SUM(J2:J15) -> 10800000 | K16: =SUM(K2:K15) -> 10500000 | L16: =SUM(L2:L8) -> 1700000 | M16: =SUM(M2:M8) -> 6500000

Sheet روبیکا کشوری
A1: ردیف | B1: عنوان | C1: نام کانال | D1: میزان مخاطب | E1: تعداد بازدید | F1: تگ کانال | G1: تعرفه ویژه | H1: تعرفه رپرتاژ | I1: تعرفه شبانه | J1: پین کانال | K1: تعرفه ویژه مخصوص نقدی
A2: 1 | B2: رسانه های کشوری روبیکا | C2: هم صدا | D2: 880100 | E2: 84100 | F2: @Hamsedaair | G2: 3700000 | H2: 8000000 | I2: 5800000 | J2: 700000 | K2: 2600000
A3: 2 | C3: خبر فردا | D3: 1600000 | E3: 181000 | F3: @khabarfarda_ir | G3: 7200000 | H3: 11000000 | I3: 8200000 | J3: 700000 | K3: 5000000
A4: 3 | C4: ورزش فوری | D4: 152400 | E4: 18600 | F4: @fori_sport | G4: 670000 | H4: 1500000 | I4: 900000 | J4: 200000 | K4: 470000
A5: 4 | C5: اکو نیوز | D5: 476500 | E5: 62300 | F5: @econews_net | G5: 2200000 | H5: 4400000 | I5: 3500000 | J5: 300000 | K5: 1550000
A6: 5 | C6: پشت پرده | D6: 53600 | E6: 5000 | F6: @posht_pardeh1 | G6: 200000 | H6: 500000 | I6: 400000 | J6: 20000 | K6: 150000
A7: 6 | C7: حقایق عجیب | D7: 39900 | E7: 2300 | F7: @haghayeghe_ajib | G7: 200000 | H7: 500000 | I7: 400000 | J7: 20000 | K7: 150000
A8: 7 | C8: زندگی زناشویی | D8: 41700 | E8: 6700 | F8: @zendegi_zanashoee | G8: 350000 | H8: 700000 | I8: 600000 | J8: 200000 | K8: 250000
A9: 8 | C9: دنیای آشپزی | D9: 34000 | E9: 600 | F9: @donnyaye_ashpazi | G9: 150000 | H9: 400000 | I9: 300000 | J9: 20000 | K9: 100000
A10: 9 | C10: دنیای تکنولوژی | D10: 33800 | E10: 716 | F10: @All_tec | G10: 150000 | H10: 400000 | I10: 300000 | J10: 20000 | K10: 100000
A11: 10 | C11: خانم خونه | D11: 21900 | E11: 5500 | F11: @khanomie_khone | G11: 350000 | H11: 700000 | I11: 550000 | J11: 200000 | K11: 250000
A12: 11 | C12: فردای خودرو | D12: 19500 | E12: 411 | F12: @fardaye_khodroo | G12: 150000 | H12: 300000 | I12: 250000 | J12: 20000 | K12: 100000
A13: 12 | C13: فردای سرمایه | D13: 55700 | E13: 527 | F13: @irwonderrs | G13: 400000 | H13: 800000 | I13: 500000 | J13: 50000 | K13: 300000
A14: جمع کل (تومان) | D14: =SUM(D2:D13) -> 3409100 | E14: =SUM(E2:E13) -> 367754 | G14: =SUM(G2:G13) -> 15720000 | H14: =SUM(H2:H13) -> 29200000 | I14: =SUM(I2:I13) -> 21700000 | J14: =SUM(J2:J13) -> 2450000 | K14: =SUM(K2:K13) -> 11020000

Sheet ایتا مشهدی
A1: ردیف | B1: عنوان | C1: نام کانال | D1: میزان مخاطب | E1: تعداد بازدید | F1: تگ کانال | G1: تعرفه ویژه | H1: تعرفه رپرتاژ | I1: پست ۱ شبانه | J1: پست ۲ شبانه | K1: پست ۳ شبانه | L1: پین کانال
A2: 1 | B2: رسانه های مشهدی ایتا | C2: اخبار مشهد | D2: 415100 | E2: 58800 | F2: @Akhbarmashhad | G2: 4500000 | H2: 9000000 | I2: 5500000 | J2: 5200000 | K2: 4800000 | L2: 500000
A3: 2 | C3: حوادث مشهد | D3: 49100 | E3: 12700 | F3: @havadesmashhad | G3: 1700000 | H3: 3400000 | I3: 2000000 | J3: 2000000 | K3: 2000000 | L3: 100000
A4: 3 | C4: اقتصاد مشهد | D4: 17600 | E4: 3300 | F4: @Eghtesad_Mashhad | L4: 100000
A5: 4 | C5: سیاسی مشهد | D5: 11800 | E5: 1600 | F5: @siasimashhad | L5: 100000
A6: 5 | C6: آب و هوای مشهد | D6: 66400 | E6: 10600 | F6: @havashenasimashhad | L6: 100000
A7: 6 | C7: مشهدپلاس | D7: 19500 | E7: 3800 | F7: @mashhad_plus | L7: 100000
A8: 7 | C8: صدای خراسان | D8: 91200 | E8: 2400 | F8: @sedayekhorasaniha | L8: 100000
A9: 8 | C9: بانوان مشهد | D9: 1700 | E9: 555 | F9: @banovanemashhad | L9: 50000
A10: جمع کل (تومان) | D10: =SUM(D2:D9) -> 672400 | E10: =SUM(E2:E9) -> 93755 | G10: =SUM(G2:G8) -> 6200000 | H10: =SUM(H2:H8) -> 12400000 | I10: =SUM(I2:I8) -> 7500000 | J10: =SUM(J2:J8) -> 7200000 | K10: =SUM(K2:K8) -> 6800000 | L10: =SUM(L2:L8) -> 1100000

Sheet ایتا کشوری
A1: ردیف | B1: عنوان | C1: نام کانال | D1: میزان مخاطب | E1: تعداد بازدید | F1: تگ کانال | G1: تعرفه ویژه | H1: تعرفه رپرتاژ | I1: تعرفه شبانه | J1: پین کانال
A2: 1 | B2: رسانه های کشوری ایتا | C2: خبرفردا | D2: 234400 | E2: 16800 | F2: @khabarfarda_ir | G2: 1200000 | H2: 3000000 | I2: 1500000 | J2: 300000
A3: 2 | C3: هم صدا | D3: 164700 | E3: 5800 | F3: @HamSedair | G3: 700000 | H3: 2000000 | I3: 1000000 | J3: 150000
A4: 3 | C4: ورزش فوری | D4: 8100 | E4: 1300 | F4: @fori_sport | G4: 200000 | H4: 500000 | I4: 300000 | J4: 50000
A5: جمع کل (تومان) | D5: =SUM(D2:D4) -> 407200 | E5: =SUM(E2:E4) -> 23900 | G5: =SUM(G2:G4) -> 2100000 | H5: =SUM(H2:H4) -> 5500000 | I5: =SUM(I2:I4) -> 2800000 | J5: =SUM(J2:J4) -> 500000

Sheet سروش
A1: ردیف | B1: عنوان | C1: نام کانال | D1: میزان مخاطب | E1: تعداد بازدید | F1: تگ کانال | G1: تعرفه ویژه | H1: تعرفه رپرتاژ | I1: تعرفه شبانه | J1: پین کانال
A2: 1 | B2: رسانه های بستر سروش | C2: اخبارمشهد | D2: 171800 | E2: 14900 | F2: @akhbarmashhad | G2: 800000 | H2: 2000000 | I2: 1200000 | J2: 300000
A3: 2 | C3: حوادث مشهد | D3: 19600 | E3: 4400 | F3: @havadesmashhad | G3: 350000 | H3: 700000 | I3: 470000 | J3: 100000
A4: 3 | C4: بانوان مشهد | D4: 981 | E4: 445 | F4: @banovane_mashhad | G4: 150000 | H4: 300000 | I4: 200000 | J4: 50000
A5: 4 | C5: هواشناسی مشهد | D5: 4900 | E5: 1400 | F5: @havashenasii_mashhad | G5: 200000 | H5: 400000 | I5: 300000 | J5: 100000
A6: 5 | C6: مشهد پلاس | D6: 7200 | E6: 2400 | F6: @mashhad_plus | G6: 200000 | H6: 400000 | I6: 300000 | J6: 100000
A7: 6 | C7: اقتصاد مشهد | D7: 3500 | E7: 1300 | F7: @eghtesadmashhad | G7: 200000 | H7: 400000 | I7: 300000 | J7: 100000
A8: 7 | C8: سیاسی مشهد | D8: 2500 | E8: 673 | F8: @siasimashhad | G8: 100000 | H8: 200000 | I8: 150000 | J8: 50000
A9: 8 | C9: صدای خراسان | D9: 3000 | E9: 4500 | F9: @SedayeKhorasanihaa | G9: 750000 | H9: 1500000 | I9: 850000 | J9: 100000
A10: 9 | C10: صدای نیشابور | D10: 440 | F10: @sedaye_neshabouriha
A11: 10 | C11: صدای سبزوار | D11: 160 | F11: @sedaye_sabzevariha
A12: 11 | C12: صدای کاشمر | D12: 153 | F12: @sedaye_kashmariha
A13: 12 | C13: صدای چناران | D13: 116 | F13: @sedaye_chenaran
A14: 13 | C14: صدای تربت جام | D14: 133 | F14: @sedaye_torbatejam
A15: 14 | C15: صدای تربت حیدریه | D15: 206 | F15: @sedaye_torbatheidariye
A16: 15 | C16: صدای قوچان | D16: 142 | F16: @sedaye_qoochan
A17: 16 | C17: خبرفردا | D17: 210000 | E17: 6200 | F17: @khabarfarda_ir | G17: 600000 | H17: 2000000 | I17: 900000 | J17: 100000
A18: 17 | C18: هم صدا | D18: 190600 | E18: 5500 | F18: @HamSedair | G18: 600000 | H18: 2000000 | I18: 900000 | J18: 100000
A19: 18 | C19: اکونیوز | D19: 2200 | E19: 73 | F19: @econews_net | G19: 100000 | H19: 300000 | I19: 200000 | J19: 20000
A20: 19 | C20: ورزش فوری | D20: 106000 | E20: 3500 | F20: @fori_sport | G20: 300000 | H20: 1000000 | I20: 500000 | J20: 20000
A21: جمع کل (تومان) | D21: =SUM(D2:D20) -> 723631 | E21: =SUM(E2:E20) -> 45291 | G21: =SUM(G2:G20) -> 4350000 | H21: =SUM(H2:H20) -> 11200000 | I21: =SUM(I2:I20) -> 6270000 | J21: =SUM(J2:J20) -> 1140000

Sheet بله
A1: ردیف | B1: عنوان | C1: نام کانال | D1: لینک کانال | E1: میزان مخاطب | F1: میزان بازدید | G1: تعرفه ویژه | H1: تعرفه رپرتاژ | I1: پست آخر | J1: پست 2 | K1: پست 3 | L1: تعرفه استوری | M1: تعرفه پین | N1: تعرفه ویژه مخصوص نقدی | O1: درصد تخفیف
A2: 1 | B2: خبری | C2: خبرفردا | D2: https://ble.ir/khabarfarda_ir | E2: 904600 | F2: 141100 | G2: 10000000 | H2: 18000000 | I2: 18000000 | J2: 16000000 | K2: 14000000 | L2: =G2/2 -> 5000000 | M2: 2000000 | N2: =G2*70% -> 7000000 | O2: 0.3
A3: 2 | B3: خبری | C3: هم صدا | D3: https://ble.ir/hamsedair | E3: 264800 | F3: 32700 | G3: 5000000 | H3: 9000000 | I3: 7500000 | J3: 6500000 | K3: 5500000 | L3: =G3/2 -> 2500000 | M3: 700000 | N3: =G3*70% -> 3500000 | O3: 0.3
A4: 3 | B4: خبری | C4: خبرفوری قرمز | D4: https://ble.ir/news_breaking | E4: 147100 | F4: 13400 | G4: 4500000 | H4: 8000000 | I4: 7000000 | J4: 6000000 | K4: 5000000 | L4: =G4/2 -> 2250000 | M4: 700000 | N4: =G4*60% -> 2700000 | O4: 0.4
A5: 4 | B5: خبری | C5: خبر فوری سبز | D5: https://ble.ir/khabar_foria | E5: 115700 | F5: 5600 | G5: 3500000 | H5: 6000000 | I5: 6000000 | J5: 5500000 | K5: 4500000 | L5: =G5/2 -> 1750000 | M5: 500000 | N5: =G5*60% -> 2100000 | O5: 0.4
A6: 5 | B6: خبری | C6: ایران نیوز | D6: https://ble.ir/lranews | E6: 92800 | F6: 35100 | G6: 3500000 | H6: 6000000 | I6: 6000000 | J6: 5500000 | K6: 4500000 | L6: =G6/2 -> 1750000 | M6: 500000 | N6: =G6*60% -> 2100000 | O6: 0.4
A7: 6 | B7: خبری | C7: نظامی نیوز | D7: https://ble.ir/nezami_news_irani | E7: 65000 | F7: 7200 | G7: 3500000 | H7: 6000000 | I7: 6000000 | J7: 5500000 | K7: 4500000 | L7: =G7/2 -> 1750000 | M7: 500000 | N7: =G7*60% -> 2100000 | O7: 0.4
A8: 7 | B8: خبری | C8: اخبار خودرو | D8: https://ble.ir/khodro_land | E8: 46800 | F8: 3700 | G8: 3500000 | H8: 6000000 | I8: 6000000 | J8: 5500000 | K8: 4500000 | L8: =G8/2 -> 1750000 | M8: 500000 | N8: =G8*60% -> 2100000 | O8: 0.4
A9: 8 | B9: خبری | C9: خبرگزاری انصار | D9: https://ble.ir/khabar_ansar | E9: 45800 | F9: 2300 | G9: 1500000 | H9: 2500000 | I9: 2500000 | J9: 2000000 | K9: 1500000 | L9: =G9/2 -> 750000 | M9: 400000 | N9: =G9*60% -> 900000 | O9: 0.4
A10: 9 | B10: خبری | C10: اکونیوز | D10: https://ble.ir/EcoNews_net | E10: 94300 | F10: 6900 | G10: 2000000 | H10: 4000000 | I10: 4000000 | J10: 3000000 | K10: 2500000 | L10: =G10/2 -> 1000000 | M10: 400000 | N10: =G10*60% -> 1200000 | O10: 0.4
A11: 10 | B11: خبری | C11: شبکه خبر سراسری | D11: https://ble.ir/shabake_khbar | E11: 12800 | F11: 536 | G11: 1000000 | H11: 2000000 | I11: 2000000 | J11: 1800000 | K11: 1500000 | L11: =G11/2 -> 500000 | M11: 400000 | N11: =G11*60% -> 600000 | O11: 0.4
A12: 11 | B12: خبری | C12: اخبار کامل | D12: https://ble.ir/akhbar_kamell | E12: 19200 | F12: 1000 | G12: 1000000 | H12: 2000000 | I12: 2000000 | J12: 1800000 | K12: 1500000 | L12: =G12/2 -> 500000 | M12: 400000 | N12: =G12*60% -> 600000 | O12: 0.4
A13: 12 | B13: خبری | C13: اخبار سراسری | D13: https://ble.ir/khabar_sarasari | E13: 9700 | F13: 218 | G13: 1000000 | H13: 2000000 | I13: 2000000 | J13: 1800000 | K13: 1500000 | L13: =G13/2 -> 500000 | M13: 400000 | N13: =G13*60% -> 600000 | O13: 0.4
A14: 13 | B14: خبری | C14: تهران نیوز | D14: https://ble.ir/tehran_ziba | E14: 17100 | F14: 919 | G14: 1000000 | H14: 2000000 | I14: 2000000 | J14: 1800000 | K14: 1500000 | L14: =G14/2 -> 500000 | M14: 400000 | N14: =G14*60% -> 600000 | O14: 0.4
A15: 14 | B15: خبری | C15: ورزش فوری | D15: https://ble.ir/fori_sport | E15: 24800 | F15: 2400 | G15: 600000 | H15: 1200000 | I15: 1500000 | J15: 1300000 | K15: 1000000 | L15: =G15/2 -> 300000 | M15: 300000 | N15: =G15*60% -> 360000 | O15: 0.4
A16: 15 | B16: خبری | C16: اخبار مشهد | D16: https://ble.ir/akhbarmashhad | E16: 174100 | F16: 16800 | G16: 4800000 | H16: 8000000 | I16: 6500000 | J16: 6000000 | K16: 5800000 | L16: =G16/2 -> 2400000 | M16: 400000 | N16: =G16*80% -> 3840000 | O16: 0.2
A17: 16 | B17: خبری | C17: صدای خراسان | D17: https://ble.ir/sedayekhorasaniha | E17: 32400 | F17: 1700 | G17: 1000000 | H17: 2000000 | I17: 2000000 | J17: 1800000 | K17: 1500000 | L17: =G17/2 -> 500000 | M17: 400000 | N17: =G17*80% -> 800000 | O17: 0.2
A18: 17 | B18: خبری | C18: اقتصاد مشهد | D18: https://ble.ir/eghtesad_mashhad | E18: 4600 | F18: 833 | G18: 230000 | H18: 500000 | I18: 500000 | J18: 400000 | K18: 300000 | L18: =G18/2 -> 115000 | M18: 50000 | N18: =G18*80% -> 184000 | O18: 0.2
A19: 18 | B19: خبری | C19: آب و هوا مشهد | D19: https://ble.ir/havashenasii_mashhad | E19: 7500 | F19: 1200 | G19: 250000 | H19: 500000 | I19: 500000 | J19: 400000 | K19: 300000 | L19: =G19/2 -> 125000 | M19: 50000 | N19: =G19*80% -> 200000 | O19: 0.2
A20: 19 | B20: خبری | C20: سیاسی مشهد | D20: https://ble.ir/siasy_mashhad | E20: 3800 | F20: 557 | G20: 150000 | H20: 300000 | I20: 300000 | J20: 250000 | K20: 200000 | L20: =G20/2 -> 75000 | M20: 50000 | N20: =G20*80% -> 120000 | O20: 0.2
A21: 20 | B21: خبری | C21: حوادث مشهد | D21: https://ble.ir/havadees_mashhad | E21: 9200 | F21: 1800 | G21: 300000 | H21: 550000 | I21: 550000 | J21: 450000 | K21: 350000 | L21: =G21/2 -> 150000 | M21: 50000 | N21: =G21*80% -> 240000 | O21: 0.2
A22: 21 | B22: خبری | C22: بانوان مشهد | D22: https://ble.ir/banovan_mashhad | E22: 778 | F22: 140 | G22: 100000 | H22: 200000 | I22: 200000 | J22: 180000 | K22: 120000 | L22: =G22/2 -> 50000 | M22: 50000 | N22: =G22*80% -> 80000 | O22: 0.2
A23: 22 | B23: خبری | C23: مشهد پلاس | D23: https://ble.ir/mashhad_plus | E23: 8700 | F23: 1400 | G23: 150000 | H23: 300000 | I23: 300000 | J23: 250000 | K23: 200000 | L23: =G23/2 -> 75000 | M23: 50000 | N23: =G23*80% -> 120000 | O23: 0.2
A24: 23 | B24: خبری | C24: فردای مشهد | D24: https://ble.ir/fardaye_mashhad | E24: 20600 | F24: 2100 | G24: 1700000 | H24: 3000000 | I24: 3000000 | J24: 2500000 | K24: 1500000 | L24: =G24/2 -> 850000 | M24: 300000 | N24: =G24*80% -> 1360000 | O24: 0.2
A25: 24 | B25: بانوان | C25: کتابخانه صوتی | D25: https://ble.ir/audio_boook | E25: 179400 | F25: 9000 | G25: 4000000 | H25: 7000000 | I25: 6000000 | J25: 5500000 | K25: 5000000 | L25: =G25/2 -> 2000000 | M25: 1500000 | N25: =G25*60% -> 2400000 | O25: 0.4
A26: 25 | B26: بانوان | C26: دنیای آشپزی | D26: https://ble.ir/foood_land | E26: 94600 | F26: 6700 | G26: 3000000 | H26: 5000000 | I26: 5000000 | J26: 4500000 | K26: 3500000 | L26: =G26/2 -> 1500000 | M26: 1000000 | N26: =G26*60% -> 1800000 | O26: 0.4
A27: 26 | B27: بانوان | C27: دنیای موسیقی | D27: https://ble.ir/musiic_land | E27: 101900 | F27: 3000 | G27: 2000000 | H27: 3500000 | I27: 3500000 | J27: 3000000 | K27: 2800000 | L27: =G27/2 -> 1000000 | M27: 500000 | N27: =G27*60% -> 1200000 | O27: 0.4
A28: 27 | B28: بانوان | C28: روزگار قدیم | D28: https://ble.ir/dahe_60 | E28: 105400 | F28: 5900 | G28: 2000000 | H28: 4000000 | I28: 4000000 | J28: 3800000 | K28: 3500000 | L28: =G28/2 -> 1000000 | M28: 500000 | N28: =G28*60% -> 1200000 | O28: 0.4
A29: 28 | B29: بانوان | C29: استوری گرام | D29: https://ble.ir/story_gram | E29: 36200 | F29: 1900 | G29: 1500000 | H29: 3000000 | I29: 2500000 | J29: 2000000 | K29: 1800000 | L29: =G29/2 -> 750000 | M29: 400000 | N29: =G29*60% -> 900000 | O29: 0.4
A30: 29 | B30: بانوان | C30: دنیای کتاب | D30: https://ble.ir/boook_land | E30: 22800 | F30: 939 | G30: 1500000 | H30: 1800000 | I30: 2500000 | J30: 2500000 | K30: 2000000 | L30: =G30/2 -> 750000 | M30: 400000 | N30: =G30*60% -> 900000 | O30: 0.4
A31: 30 | B31: بانوان | C31: دنیای مادر و کودک | D31: https://ble.ir/mom_land | E31: 20800 | F31: 571 | G31: 1500000 | H31: 3000000 | I31: 2500000 | J31: 2000000 | K31: 1800000 | L31: =G31/2 -> 750000 | M31: 400000 | N31: =G31*60% -> 900000 | O31: 0.4
A32: 31 | B32: بانوان | C32: دنیای کیک و دسر | D32: https://ble.ir/pastry_land | E32: 26200 | F32: 1400 | G32: 1500000 | H32: 3000000 | I32: 2500000 | J32: 2000000 | K32: 1800000 | L32: =G32/2 -> 750000 | M32: 400000 | N32: =G32*60% -> 900000 | O32: 0.4
A33: 32 | B33: بانوان | C33: شبکه سلامتی | D33: https://ble.ir/slamat_tv | E33: 25100 | F33: 2500 | G33: 1500000 | H33: 3000000 | I33: 2500000 | J33: 2000000 | K33: 1800000 | L33: =G33/2 -> 750000 | M33: 400000 | N33: =G33*60% -> 900000 | O33: 0.4
A34: 33 | B34: بانوان | C34: دنیای نوشیدنی | D34: https://ble.ir/drink_land | E34: 18400 | F34: 466 | G34: 1500000 | H34: 3000000 | I34: 2500000 | J34: 2000000 | K34: 1800000 | L34: =G34/2 -> 750000 | M34: 400000 | N34: =G34*60% -> 900000 | O34: 0.4
A35: 34 | B35: بانوان | C35: بانو آنلاین | D35: https://ble.ir/banoo_online | E35: 16600 | F35: 4400 | G35: 1000000 | H35: 2000000 | I35: 2000000 | J35: 1800000 | K35: 1500000 | L35: =G35/2 -> 500000 | M35: 300000 | N35: =G35*60% -> 600000 | O35: 0.4
A36: 35 | B36: بانوان | C36: همسر نمونه | D36: https://ble.ir/family_land | E36: 12700 | F36: 490 | G36: 1000000 | H36: 2000000 | I36: 2000000 | J36: 1800000 | K36: 1500000 | L36: =G36/2 -> 500000 | M36: 300000 | N36: =G36*60% -> 600000 | O36: 0.4
... A56: 55 | B56: سرگرمی | C56: بارسلونا | D56: https://ble.ir/barcadailyplus | E56: 8100 | F56: 175 | G56: 600000 | H56: 1000000 | I56: 1500000 | J56: 1300000 | K56: 1000000 | L56: =G56/2 -> 300000 | M56: 300000 | N56: =G56*60% -> 360000 | O56: 0.4
A57: 56 | B57: خبری | C57: ایران آلارم | D57: https://ble.ir/akhbar_iranalarm | E57: 78300 | F57: 5000 | G57: 4000000 | H57: 6000000 | I57: 4500000 | J57: 4100000 | K57: 3900000 | L57: 1500000 | M57: 500000 | N57: 3150000 | O57: 0.4
A58: 57 | B58: سرگرمی | C58: آقای میم | D58: https://ble.ir/agaye_meme | E58: 11600 | F58: 42 | G58: 600000 | H58: 800000 | I58: 1000000 | J58: 800000 | K58: 600000 | L58: 200000 | M58: 150000 | N58: 700000 | O58: 0.4
A59: 58 | B59: سرگرمی | C59: فان لند | D59: https://ble.ir/funland2 | E59: 5300 | F59: 230 | G59: 300000 | H59: 400000 | I59: 500000 | J59: 300000 | K59: 200000 | L59: 150000 | M59: 50000 | N59: 210000 | O59: 0.4
...

Sheet اینستاگرام
A1: ردیف | B1: عنوان | C1: نام کانال | D1: میزان مخاطب | E1: تعداد بازدید | F1: آدرس پیج | G1: تعرفه پست | H1: تعرفه استوری | I1: تعرفه پست رپرتاژ | J1: تعرفه استوری رپرتاژ
A2: 1 | B2: رسانه های مشهدی و کشوری اینستاگرام | C2: اخبارمشهد | D2: 322000 | E2: 45000 | F2: instagram.com/akhbarmashhad_ | G2: 2900000 | H2: 1800000 | I2: 6000000 | J2: 3200000
A3: 2 | C3: حوادث مشهد | D3: 465000 | E3: 67000 | F3: instagram.com/havades.mashhad | G3: 3500000 | H3: 2300000 | I3: 7000000 | J3: 5000000
A4: 3 | C4: مستقیم مشهد | D4: 233000 | E4: 32000 | F4: instagram.com/mostaghim.mashhad | G4: 1000000 | H4: 800000 | I4: 1800000 | J4: 1500000
A5: 4 | C5: تجارت مشهد | D5: 240000 | E5: 21000 | F5: instagram.com/tejjarat | G5: 1100000 | H5: 900000 | I5: 2000000 | J5: =H5*2 -> 1800000
A6: 5 | C6: هم صدا | D6: 760000 | E6: 80000 | F6: https://instagram.com/hamseda_ir | G6: 2500000 | H6: 1800000 | I6: 5000000 | J6: 3000000
A7: 6 | C7: ورزش فوری | D7: 73900 | E7: 15000 | F7: instagram.com/worlldsport | G7: 600000 | H7: 300000 | I7: 900000 | J7: 500000
A8: 7 | C8: ایکس ایران | D8: 87700 | E8: 15000 | F8: instagram.com/x__iran | G8: 500000 | H8: 200000 | I8: 900000 | J8: =H8*2 -> 400000
A9: 8 | C9: حادثه نیوز | D9: 339000 | E9: 26000 | F9: instagram.com/havadesvaghee | G9: 800000 | H9: 500000 | I9: 1600000 | J9: 900000
A10: 9 | C10: خبر فردا | D10: 1200000 | E10: 34000 | F10: instagram.com/khabarfardair | G10: 1000000 | H10: 700000 | I10: 1800000 | J10: 1200000
A11: 10 | C11: حاشیه نیوز | D11: 1100000 | E11: 204000 | F11: instagram.com/hasheyehnews | G11: 3500000 | H11: 1900000 | I11: 6000000 | J11: 3000000
A12: جمع کل | D12: =SUM(D2:D11) -> 4820600 | E12: =SUM(E2:E11) -> 539000 | G12: =SUM(G2:G11) -> 17400000 | H12: =SUM(H2:H11) -> 11200000 | I12: =SUM(I2:I11) -> 33000000 | J12: =SUM(J2:J11) -> 20500000

Sheet گپ
A1: ردیف | B1: عنوان | C1: نام کانال | D1: میزان مخاطب | E1: تعداد بازدید | F1: تگ کانال | G1: تعرفه ویژه | H1: تعرفه رپرتاژ | I1: پین کانال
A2: 1 | B2: رسانه های گپ | C2: اخبار مشهد | D2: 75882 | E2: 1100 | F2: https://gap.im/akhbarmashhad | G2: 150000 | H2: 300000 | I2: 20000
A3: 2 | C3: حادثه نیوز | D3: 73995 | E3: 148 | F3: https://gap.im/hadesenews | G3: 200000 | H3: 400000 | I3: 20000
A4: 3 | C4: جهان ورزش | D4: 79573 | E4: 350 | F4: https://gap.im/worldsport | G4: 200000 | H4: 400000 | I4: 20000
A5: جمع کل (تومان) | D5: =SUM(D2:D4) -> 229450 | E5: =SUM(E2:E4) -> 1598 | G5: =SUM(G2:G4) -> 550000 | H5: =SUM(H2:H4) -> 1100000 | I5: =SUM(I2:I4) -> 60000

Sheet جمع کل
A1: ردیف | B1: نام بستر | C1: میزان مخاطب | D1: تعداد بازید | E1: تعداد کانال | F1: تعرفه ویژه (تومان) | G1: تعرفه رپرتاژ (تومان)
A2: 1 | B2: تلگرام | C2: ='تلگرام مشهدی'!D11+'تلگرام کشوری'!D6 -> 3388700 | D2: ='تلگرام مشهدی'!E11+'تلگرام کشوری'!E6 -> 168530 | E2: 13 | F2: ='تلگرام مشهدی'!G11+'تلگرام کشوری'!G6 -> 22000000 | G2: ='تلگرام مشهدی'!H11+'تلگرام کشوری'!H6 -> 40300000
A3: 2 | B3: روبیکا | C3: ='روبیکا مشهدی'!D16+'روبیکا کشوری'!D14 -> 4866240 | D3: ='روبیکا مشهدی'!E16+'روبیکا کشوری'!E14 -> 612329 | E3: 26 | F3: ='روبیکا مشهدی'!G16+'روبیکا کشوری'!G14 -> 26520000 | G3: ='روبیکا مشهدی'!H16+'روبیکا کشوری'!H14 -> 49400000
A4: 3 | B4: ایتا | C4: ='ایتا مشهدی'!D10+'ایتا کشوری'!D5 -> 1079600 | D4: ='ایتا مشهدی'!E10+'ایتا کشوری'!E5 -> 117655 | E4: 11 | F4: ='ایتا مشهدی'!G10+'ایتا کشوری'!G5 -> 8300000 | G4: ='ایتا مشهدی'!H10+'ایتا کشوری'!H5 -> 17900000
A5: 4 | B5: سروش | C5: =سروش!D21 -> 723631 | D5: =سروش!E21 -> 45291 | E5: 19 | F5: =سروش!G21 -> 4350000 | G5: =سروش!H21 -> 11200000
A6: 5 | B6: بله | C6: =بله!E65 -> 3468278 | D6: =بله!F65 -> 348789 | E6: =بله!A64 -> 63 | F6: =بله!G65 -> 102780000 | G6: =بله!H65 -> 183750000
A7: 6 | B7: اینستاگرام | C7: =اینستاگرام!D12 -> 4820600 | D7: =اینستاگرام!E12 -> 539000 | E7: =اینستاگرام!A11 -> 10 | F7: =اینستاگرام!G12+اینستاگرام!H12 -> 28600000 | G7: =اینستاگرام!I12+اینستاگرام!J12 -> 53500000
A8: 7 | B8: گپ | C8: =گپ!D5 -> 229450 | D8: =گپ!E5 -> 1598 | E8: =گپ!A4 -> 3 | F8: =گپ!G5 -> 550000 | G8: =گپ!H5 -> 1100000
A9: جمع کل | C9: =SUM(C2:C8) -> 18576499 | D9: =SUM(D2:D8) -> 1833192 | E9: =SUM(E2:E8) -> 145 | F9: =SUM(F2:F8) -> 193100000 | G9: =SUM(G2:G8) -> 357150000
